BEGIN:VCALENDAR
VERSION:2.0
PRODID:-//cunninghamcreek.wine - ECPv6.15.20//NONSGML v1.0//EN
CALSCALE:GREGORIAN
METHOD:PUBLISH
X-WR-CALNAME:cunninghamcreek.wine
X-ORIGINAL-URL:https://cunninghamcreek.wine
X-WR-CALDESC:Events for cunninghamcreek.wine
REFRESH-INTERVAL;VALUE=DURATION:PT1H
X-Robots-Tag:noindex
X-PUBLISHED-TTL:PT1H
BEGIN:VTIMEZONE
TZID:America/New_York
BEGIN:DAYLIGHT
TZOFFSETFROM:-0500
TZOFFSETTO:-0400
TZNAME:EDT
DTSTART:20250309T070000
END:DAYLIGHT
BEGIN:STANDARD
TZOFFSETFROM:-0400
TZOFFSETTO:-0500
TZNAME:EST
DTSTART:20251102T060000
END:STANDARD
BEGIN:DAYLIGHT
TZOFFSETFROM:-0500
TZOFFSETTO:-0400
TZNAME:EDT
DTSTART:20260308T070000
END:DAYLIGHT
BEGIN:STANDARD
TZOFFSETFROM:-0400
TZOFFSETTO:-0500
TZNAME:EST
DTSTART:20261101T060000
END:STANDARD
BEGIN:DAYLIGHT
TZOFFSETFROM:-0500
TZOFFSETTO:-0400
TZNAME:EDT
DTSTART:20270314T070000
END:DAYLIGHT
BEGIN:STANDARD
TZOFFSETFROM:-0400
TZOFFSETTO:-0500
TZNAME:EST
DTSTART:20271107T060000
END:STANDARD
END:VTIMEZONE
BEGIN:VEVENT
DTSTART;TZID=America/New_York:20260920T120000
DTEND;TZID=America/New_York:20260920T160000
DTSTAMP:20260420T055623
CREATED:20260415T081405Z
LAST-MODIFIED:20260415T081405Z
UID:2538-1789905600-1789920000@cunninghamcreek.wine
SUMMARY:Oktoberfest Pop-up
DESCRIPTION:Oktoberfest pop-up with Chef Andy
URL:https://cunninghamcreek.wine/single-event/oktoberfest-pop-up/
LOCATION:Cunningham Creek Winery & Brewery\, 3304 Ruritan Lake Road Palmyra\, VA 22963\, Palmyra\, 22963
CATEGORIES:Dining,Family Fun Day,Food Truck
ATTACH;FMTTYPE=image/png:https://cunninghamcreek.wine/wp-content/uploads/2025/09/Charcuterie.png
END:VEVENT
END:VCALENDAR