BEGIN:VCALENDAR
VERSION:2.0
PRODID:-//cunninghamcreek.wine - ECPv6.15.20//NONSGML v1.0//EN
CALSCALE:GREGORIAN
METHOD:PUBLISH
X-WR-CALNAME:cunninghamcreek.wine
X-ORIGINAL-URL:https://cunninghamcreek.wine
X-WR-CALDESC:Events for cunninghamcreek.wine
REFRESH-INTERVAL;VALUE=DURATION:PT1H
X-Robots-Tag:noindex
X-PUBLISHED-TTL:PT1H
BEGIN:VTIMEZONE
TZID:America/New_York
BEGIN:DAYLIGHT
TZOFFSETFROM:-0500
TZOFFSETTO:-0400
TZNAME:EDT
DTSTART:20250309T070000
END:DAYLIGHT
BEGIN:STANDARD
TZOFFSETFROM:-0400
TZOFFSETTO:-0500
TZNAME:EST
DTSTART:20251102T060000
END:STANDARD
BEGIN:DAYLIGHT
TZOFFSETFROM:-0500
TZOFFSETTO:-0400
TZNAME:EDT
DTSTART:20260308T070000
END:DAYLIGHT
BEGIN:STANDARD
TZOFFSETFROM:-0400
TZOFFSETTO:-0500
TZNAME:EST
DTSTART:20261101T060000
END:STANDARD
BEGIN:DAYLIGHT
TZOFFSETFROM:-0500
TZOFFSETTO:-0400
TZNAME:EDT
DTSTART:20270314T070000
END:DAYLIGHT
BEGIN:STANDARD
TZOFFSETFROM:-0400
TZOFFSETTO:-0500
TZNAME:EST
DTSTART:20271107T060000
END:STANDARD
END:VTIMEZONE
BEGIN:VEVENT
DTSTART;TZID=America/New_York:20260510T130000
DTEND;TZID=America/New_York:20260510T160000
DTSTAMP:20260422T055600
CREATED:20260415T073204Z
LAST-MODIFIED:20260421T152103Z
UID:2501-1778418000-1778428800@cunninghamcreek.wine
SUMMARY:Mother’s Day Brunch
DESCRIPTION:Join us for this special event with seating options at 1 pm\, 2 pm\, and 3 pm\, and let’s honor the remarkable mothers in our lives with a delightful afternoon filled with love and laughter.  Your choice of a personal quiche (crab\, Florentine\, or Quiche Lorraine) accompanied by a fruit cup\, mini muffin\, mimosa or mock-mosa.  $30 p/p
URL:https://cunninghamcreek.wine/single-event/mothers-day-brunch/
CATEGORIES:Brunch
ATTACH;FMTTYPE=image/png:https://cunninghamcreek.wine/wp-content/uploads/2026/04/quichemimosa.png
END:VEVENT
END:VCALENDAR