BEGIN:VCALENDAR
VERSION:2.0
PRODID:-//cunninghamcreek.wine - ECPv6.15.20//NONSGML v1.0//EN
CALSCALE:GREGORIAN
METHOD:PUBLISH
X-WR-CALNAME:cunninghamcreek.wine
X-ORIGINAL-URL:https://cunninghamcreek.wine
X-WR-CALDESC:Events for cunninghamcreek.wine
REFRESH-INTERVAL;VALUE=DURATION:PT1H
X-Robots-Tag:noindex
X-PUBLISHED-TTL:PT1H
BEGIN:VTIMEZONE
TZID:America/New_York
BEGIN:DAYLIGHT
TZOFFSETFROM:-0500
TZOFFSETTO:-0400
TZNAME:EDT
DTSTART:20250309T070000
END:DAYLIGHT
BEGIN:STANDARD
TZOFFSETFROM:-0400
TZOFFSETTO:-0500
TZNAME:EST
DTSTART:20251102T060000
END:STANDARD
BEGIN:DAYLIGHT
TZOFFSETFROM:-0500
TZOFFSETTO:-0400
TZNAME:EDT
DTSTART:20260308T070000
END:DAYLIGHT
BEGIN:STANDARD
TZOFFSETFROM:-0400
TZOFFSETTO:-0500
TZNAME:EST
DTSTART:20261101T060000
END:STANDARD
BEGIN:DAYLIGHT
TZOFFSETFROM:-0500
TZOFFSETTO:-0400
TZNAME:EDT
DTSTART:20270314T070000
END:DAYLIGHT
BEGIN:STANDARD
TZOFFSETFROM:-0400
TZOFFSETTO:-0500
TZNAME:EST
DTSTART:20271107T060000
END:STANDARD
END:VTIMEZONE
BEGIN:VEVENT
DTSTART;TZID=America/New_York:20261011T183000
DTEND;TZID=America/New_York:20261011T210000
DTSTAMP:20260420T061058
CREATED:20260415T080725Z
LAST-MODIFIED:20260415T080725Z
UID:2533-1791743400-1791752400@cunninghamcreek.wine
SUMMARY:Harvest Wine Dinner
DESCRIPTION:Harvest Wine Dinner with Chef Andy
URL:https://cunninghamcreek.wine/single-event/harvest-wine-dinner/
LOCATION:Cunningham Creek Winery & Brewery\, 3304 Ruritan Lake Road Palmyra\, VA 22963\, Palmyra\, 22963
CATEGORIES:Dining,Wine Dinner
ATTACH;FMTTYPE=image/jpeg:https://cunninghamcreek.wine/wp-content/uploads/2026/04/WineDinnerToast.jpg
END:VEVENT
END:VCALENDAR