BEGIN:VCALENDAR
VERSION:2.0
PRODID:-//cunninghamcreek.wine - ECPv6.15.20//NONSGML v1.0//EN
CALSCALE:GREGORIAN
METHOD:PUBLISH
X-WR-CALNAME:cunninghamcreek.wine
X-ORIGINAL-URL:https://cunninghamcreek.wine
X-WR-CALDESC:Events for cunninghamcreek.wine
REFRESH-INTERVAL;VALUE=DURATION:PT1H
X-Robots-Tag:noindex
X-PUBLISHED-TTL:PT1H
BEGIN:VTIMEZONE
TZID:America/New_York
BEGIN:DAYLIGHT
TZOFFSETFROM:-0500
TZOFFSETTO:-0400
TZNAME:EDT
DTSTART:20250309T070000
END:DAYLIGHT
BEGIN:STANDARD
TZOFFSETFROM:-0400
TZOFFSETTO:-0500
TZNAME:EST
DTSTART:20251102T060000
END:STANDARD
BEGIN:DAYLIGHT
TZOFFSETFROM:-0500
TZOFFSETTO:-0400
TZNAME:EDT
DTSTART:20260308T070000
END:DAYLIGHT
BEGIN:STANDARD
TZOFFSETFROM:-0400
TZOFFSETTO:-0500
TZNAME:EST
DTSTART:20261101T060000
END:STANDARD
BEGIN:DAYLIGHT
TZOFFSETFROM:-0500
TZOFFSETTO:-0400
TZNAME:EDT
DTSTART:20270314T070000
END:DAYLIGHT
BEGIN:STANDARD
TZOFFSETFROM:-0400
TZOFFSETTO:-0500
TZNAME:EST
DTSTART:20271107T060000
END:STANDARD
END:VTIMEZONE
BEGIN:VEVENT
DTSTART;TZID=America/New_York:20260515T183000
DTEND;TZID=America/New_York:20260515T203000
DTSTAMP:20260420T042346
CREATED:20260415T073456Z
LAST-MODIFIED:20260416T100039Z
UID:2505-1778869800-1778877000@cunninghamcreek.wine
SUMMARY:Artist Reception
DESCRIPTION:Celebrating Creation in Paint\, showcasing artwork
URL:https://cunninghamcreek.wine/single-event/artist-reception/
LOCATION:Cunningham Creek Winery & Brewery\, 3304 Ruritan Lake Road Palmyra\, VA 22963\, Palmyra\, 22963
CATEGORIES:Art
ATTACH;FMTTYPE=image/jpeg:https://cunninghamcreek.wine/wp-content/uploads/2026/04/photo-by-DJAdventures-scaled.jpeg
END:VEVENT
END:VCALENDAR